{"text_format":"1","workbook":"xlsx","n_sheets":6,"sheets":["STARTNA LISTA 1 do 3","STARTNA LISTA 4 in 5","1. do 3. razred UČENCI","1. do 3. razred UČENKE","4. in 5. razred UČENCI","4. in 5. razred UČENKE"],"not_rendered":{"charts":0,"images":3,"macros":1,"external_links":0,"defined_names":8,"comments":0,"pivot_tables":0},"unopened":[],"bounds":{"document_bytes":16777216,"sheet_cells":100000,"rows_first":2000,"rows_last":500,"rows_between":2000,"halvings":0,"cell_chars":16384,"cell_head_chars":4096},"cells_cut":0,"cells_raw":0,"read":"whole","date_system":"1900"}

{"sheet":"STARTNA LISTA 1 do 3","index":0,"n_rows":49,"n_cols":16,"rows_kept":49,"cut":false,"hidden":false,"merged":[]}
[null,"STARTNA LISTA",null,null,null,"2017-01-19",null,null,null,null,"2017-02-16"]
["UČENCI letnik 2008, 2009 in 2010 - 1., 2. in 3. razred"]
["Št.","Ime in priimek","Letnik","Osnovna šola","Dolžina skoka","Odbitki doskoka"]
[1,"LENART TIŠLER",2008,"TRŽIČ, LOM",null,null,null,1,"LENART TIŠLER",2008,"TRŽIČ, LOM"]
[" "," "," "," ",null,null,null,2,"MARTIN REJC KOS",2008,"TRŽIČ, LOM"]
[3,"GABER ČERNILEC",2008,"TRŽIČ",null,null,null,3,"GABER ČERNILEC",2008,"TRŽIČ"]
[4,"JOŠT SOKLIČ",2009,"TRŽIČ",null,null,null,4,"JOŠT SOKLIČ",2009,"TRŽIČ"]
[5,"JAN MEGLIČ",2008,"TRŽIČ, POD.",null,null,null,5,"JAN MEGLIČ",2008,"TRŽIČ, POD."]
[" "," "," "," ",null,null,null,6,"ŽIGA KRALJ",2008,"TRŽIČ, POD."]
[7,"VAL VERŠNIK",2010,"TRŽIČ, POD.",null,null,null,7,"VAL VERŠNIK",2010,"TRŽIČ, POD."]
[8,"ŽAN BEGOVIČ",2008,"BISTRICA",null,null,null,8,"ŽAN BEGOVIČ",2008,"BISTRICA"]
[9,"MATIC PREMRL",2008,"BISTRICA",null,null,null,9,"MATIC PREMRL",2008,"BISTRICA"]
[10,"LUKA BEGOVIČ",2010,"BISTRICA",null,null,null,10,"LUKA BEGOVIČ",2010,"BISTRICA"]
[11,"MATIC ALJANČIČ",2008,"BISTRICA",null,null,null,11,"MATIC ALJANČIČ",2008,"BISTRICA"]
[12,"TIM ALJANČIČ",2009,"BISTRICA",null,null,null,12,"TIM ALJANČIČ",2009,"BISTRICA"]
[13,"NEJC RIBIČ",2010,"BISTRICA",null,null,null,13,"NEJC RIBIČ",2010,"BISTRICA"]
[14,"ROK GROS",2010,"BISTRICA",null,null,null,14,"ROK GROS",2010,"BISTRICA"]
[15,"NEJC STRNAD PODLESNIK",2008,"KRIŽE",null,null,null,15,"NEJC STRNAD PODLESNIK",2008,"KRIŽE"]
[16,"ANEJ TRATNIK PIRMAN",2008,"KRIŽE",null,null,null,16]
[17,"TIM POTOČNIK",2010,"KRIŽE",null,null,null,17]
[18,"TILEN POTOČNIK",2010,"KRIŽE",null,null,null,18]
[19,"ŽAK ŠVAB",2010,"KRIŽE",null,null,null,19,"ŽAK ŠVAB",2010,"KRIŽE"]
[20,"JERNEJ KOŠIR",2009,"KRIŽE",null,null,null,20]
[21,"MATIC KALAN",2009,"KRIŽE",null,null,null,21,"MATIC KALAN",2009,"KRIŽE"]
[22,"ČRT BEČAN",2008,"KRIŽE",null,null,null,22,"ČRT BEČAN",2008,"KRIŽE"]
[23,"MATIC STEGNAR",2008,"BISTRICA",null,null,null,23,"MATIC STEGNAR",2008,"BISTRICA",null,"MARK AHČIN",2008,"KRIŽE"]
[24,"GAŠPER ZUPANC",2009,"BISTRICA",null,null,null,24,"GAŠPER ZUPANC",2009,"BISTRICA"]
[" "," "," "," ",null,null,null,25,"ROK BALKOVEC",2008,"BISTRICA"]
[" "," "," "," ",null,null,null,26,"LOVRO MIRT",2010,"TRŽIČ"]
[27,"AMADEJ POLAJNAR",2008,"KRIŽE",null,null,null,27,"AMADEJ POLAJNAR",2008,"KRIŽE"]
[" "," "," "," "]
[" "," "," "," "]
[]
[]
[]
[]
[]
[]
["UČENKE letnik 2008, 2009 in 2010 - 1., 2. in 3. razred"]
[29,"ULA BELHAR",2009,"TRŽIČ",null,null,null,30,",",2009,"TRŽIČ"]
[31,"TINKARA SOKLIČ",2010,"TRŽIČ",null,null,null,31,"TINKARA SOKLIČ",2010,"TRŽIČ"]
[32,"ŽIVA MEGLIČ",2010,"KRIŽE",null,null,null,32,"ŽIVA MEGLIČ",2010,"KRIŽE"]
[33,"ULA ŠVAB",2008,"KRIŽE",null,null,null,33,"ULA ŠVAB",2008,"KRIŽE"]
[34,"ŽIVA DOLHAR",2010,"TRŽIČ",null,null,null,34,"ŽIVA DOLHAR",2010,"TRŽIČ",null,34,"KATARINA LANGUS",2008,"KRIŽE"]
[35,"ULA PERKO",2008,"KRIŽE",null,null,null,35,"ULA PERKO",2008,"KRIŽE"]
[36,"HANNA KAVČIČ",2009,"BISTRICA",null,null,null,36]
[37,"URŠA PREMRL",2010,"BISTRICA",null,null,null,37,"URŠA PREMRL",2010,"BISTRICA"]
[38,"VITA MARKELJ",2008,"KRIŽE",null,null,null,38,"VITA MARKELJ",2008,"KRIŽE"]
[39,"ZALA DOLHAR",2008,"TRŽIČ",null,null,null,39,"ZALA DOLHAR",2008,"TRŽIČ"]

{"sheet":"STARTNA LISTA 4 in 5","index":1,"n_rows":51,"n_cols":11,"rows_kept":51,"cut":false,"hidden":false,"merged":[]}
[null,"STARTNA LISTA",null,null,null,"2017-01-19",null,null,null,null,"2017-02-16"]
["UČENCI letnik 2006 in 2007 - 4. in 5. razred"]
["Št.","Ime in priimek","Letnik","Osnovna šola","Dolžina skoka","Odbitki doskoka"]
[80,"OŽBEJ BELHAR",2007,"TRŽIČ",null,null,null,40,"OŽBEJ BELHAR",2007,"TRŽIČ"]
[41,"KRISTJAN R.ZUPANČIČ",2007,"TRŽIČ",null,null,null,41,"KRISTJAN R.ZUPANČIČ",2007,"TRŽIČ"]
[42,"ANEJ PAPLER",2006,"TRŽIČ",null,null,null,42,"ANEJ PAPLER",2006,"TRŽIČ"]
[83,"VENO BAJAZET",2006,"TRŽIČ",null,null,null,43,"VENO BAJAZET",2006,"TRŽIČ"]
[44,"ALEN HADŽIĆ",2006,"TRŽIČ",null,null,null,44,"ALEN HADŽIĆ",2006,"TRŽIČ"]
[45,"MATIC SOKLIČ",2006,"TRŽIČ",null,null,null,45,"MATIC SOKLIČ",2006,"TRŽIČ"]
[46,"MAJ SOKLIČ",2006,"TRŽIČ",null,null,null,46,"MAJ SOKLIČ",2006,"TRŽIČ"]
[47,"MAJ FROLICH",2006,"TRŽIČ, POD.",null,null,null,47,"MAJ FROLICH",2006,"TRŽIČ, POD."]
[" "," "," "," ",null,null,null,48,"VID KRALJ",2006,"TRŽIČ, POD."]
[49,"GAŠPER ČERNILEC",2007,"TRŽIČ, POD.",null,null,null,49,"GAŠPER ČERNILEC",2007,"TRŽIČ, POD."]
[50,"LOVRO GAL JANC",2007,"TRŽIČ, POD.",null,null,null,50,"LOVRO GAL JANC",2007,"TRŽIČ, POD."]
[51,"DAVID MEGLIČ",2007,"BISTRICA",null,null,null,51,"DAVID MEGLIČ",2007,"BISTRICA"]
[52,"URH ŽOS",2007,"BISTRICA",null,null,null,52,"URH ŽOS",2007,"BISTRICA"]
[53,"MATEVŽ GRAŠIČ",2007,"KRIŽE",null,null,null,53,"MATEVŽ GRAŠIČ",2007,"KRIŽE"]
[54,"LUKA SKODLAR",2006,"NAKLO POD.",null,null,null,54]
[55,"AME KOZJEK",2006,"NAKLO POD.",null,null,null,55]
[56,"GAL MIHELIČ",2006,"NAKLO POD.",null,null,null,56]
[57,"URBAN KUKOVIČ",2006,"BISTRICA",null,null,null,58,"MARK AHČIN",2007,"KRIŽE"]
[58,"MARK AHČIN",2007,"KRIŽE"]
[" "," "," "," "]
[]
[]
[]
[]
[]
[]
[]
["UČENKE letnik 2006 in 2007 - 4. in 5. razred"]
[60,"AJDA JUGOVIC",2007,"TRŽIČ",null,null,null,60,"AJDA JUGOVIC",2007,"TRŽIČ"]
[61,"SARA OBRADOVIČ",2007,"TRŽIČ",null,null,null,61,"SARA OBRADOVIČ",2007,"TRŽIČ"]
[62,"ZOJA ŠORN VESEL",2007,"TRŽIČ",null,null,null,62,"ZOJA ŠORN VESEL",2007,"TRŽIČ"]
[63,"BARBARA RIBIČ",2007,"BISTRICA",null,null,null,63,"BARBARA RIBIČ",2007,"BISTRICA"]
[64,"NEŽA ROŽIČ",2007,"BISTRICA",null,null,null,64,"NEŽA ROŽIČ",2007,"BISTRICA"]
[65,"NECA MEGLIČ",2007,"KRIŽE",null,null,null,65,"NECA MEGLIČ",2007,"KRIŽE"]
[66,"LUCIJA DOVŽAN",2007,"KRIŽE",null,null,null,66,"LUCIJA DOVŽAN",2007,"KRIŽE"]
[" "," "," "," ",null,null,null,67]
[68,"ULLA KAVČIČ",2006,"BISTRICA",null,null,null,68]
[69,"EVA JERMAN",2007,"BISTRICA",null,null,null,69,"EVA JERMAN",2007,"BISTRICA"]
[70,"ANA TIŠLER",2007,"POŠ LOM",null,null,null,70,"ANA TIŠLER",2007,"POŠ LOM"]
[" "," "," "," "]
[" "," "," "," "]
[" "," "," "," "]
[" "," "," "," "]
[" "," "," "," "]
[" "," "," "," "]
[" "," "," "," "]
[" "," "," "," "]
[" "," "," "," "]

{"sheet":"1. do 3. razred UČENCI","index":2,"n_rows":43,"n_cols":52,"rows_kept":43,"cut":false,"hidden":false,"merged":[[12,34,12,36],[12,42,12,44],[12,4,12,6],[12,7,12,9],[12,10,12,12],[12,19,12,21],[12,22,12,24],[12,25,12,27]]}
[null,"= Izvedba 1. tekme",null,"Rezultati 1. tekme"]
[null,"= Izvedba 2. tekme",null,"Rezultati 2. tekme"]
[null,null,null,"Končni rezultati"]
[]
[]
[null,null,"ORGANIZATOR NSK TRŽIČ FMG",null,null,null,null,null,null,null,"Vrednost dolžine skoka:",null,null,null,null,null,"1 m = 6 točk",null,null,null,null,null,null,null,null,"Vrednost dolžine skoka:",null,null,null,null,null,"1 m = 6 točk"]
[null,null,null,null,null,null,null,null,null,null,"Rezultat se ob podrsu zmanjša za:",null,null,null,null,null,"3 TOČKE",null,null,null,null,null,null,null,null,"Rezultat se ob podrsu zmanjša za:",null,null,null,null,null,"3 TOČKE"]
["ODPRTO ŠOLSKO PRVENSTVO V SMUČARSKIH SKOKIH ZA ŠOLSKO LETO 2016/17",null,null,null,null,null,null,null,null,null,"Rezultat se ob padcu zmanjša za:",null,null,null,null,null,"6 TOČK",null,null,null,null,null,null,null,null,"Rezultat se ob padcu zmanjša za:",null,null,null,null,null,"6 TOČK"]
["V skupni seštevek se upoštevata točkovno najboljša dva skoka"]
["V primeru delitve mesta,  se za razvrstitev šteje dolžina najdalšega skoka in nato še tisti skok, ki ni bil upoštevan v seštevek za končno število točk."]
[]
["REZULTATI",null,null,null,"Tržič 19.1.2017",null,null,null,null,null,null,null,null,null,null,null,null,null,null,"Tržič 16.2.2017",null,null,null,null,null,null,null,null,null,null,null,null,null,null,"Tržič 19.1.2017",null,null,null,null,null,null,null,"Tržič 16.2.2017"]
[null,"DEČKI",null,"1., 2., 3. RAZRED","Dolžina skoka",null,null,"Odbitki doskoka",null,null,"Točk skok + doskok",null,null,null,"1.","2.","Skupaj","Št.",null,"Dolžina skoka",null,null,"Odbitki doskoka",null,null,"Točk skok + doskok",null,null,null,"1.","2.","Skupaj","Št.",null,"Točk skok + doskok",null,null,null,"1.","2.","Točk",null,"Točk skok + doskok",null,null,null,"1.","2.","Točk",null,"Naj","Končno"]
["Mesto","Ime in priimek","Letnik","Osnovna šola","1.SK.","2.SK.","3.SK.","1.SK.","2.SK.","3.SK.","1.SK.","2.SK.","3.SK.",null,"boljši","boljši","št. točk","štev.",null,"1.SK.","2.SK.","3.SK.","1.SK.","2.SK.","3.SK.","1.SK.","2.SK.","3.SK.",null,"boljši","boljši","št. točk","štev.",null,"1.SK.","2.SK.","3.SK.",null,"boljši","boljši","19.01.",null,"1.SK.","2.SK.","3.SK.",null,"boljši","boljši","16.02.",null,"skok","št. točk"]
[1,{"$f":"'STARTNA LISTA 1 do 3'!$B$7","v":"JOŠT SOKLIČ"},{"$f":"'STARTNA LISTA 1 do 3'!$C$7","v":2009},{"$f":"'STARTNA LISTA 1 do 3'!$D$7","v":"TRŽIČ"},3,3.75,3.75,null,null,null,{"$f":"IF(E15>0,+E15*6-H15,\"\")","v":18},{"$f":"IF(F15>0,+F15*6-I15,\"\")","v":22.5},{"$f":"IF(G15>0,+G15*6-J15,\"\")","v":22.5},{"$f":"SUM(K15:M15)","v":63},{"$f":"IF(N15>0,LARGE(K15:M15,1),\"\")","v":22.5},{"$f":"IF(N15>0,LARGE(K15:M15,2),\"\")","v":22.5},{"$f":"IF(N15>0,+O15+P15,0)","v":45},{"$f":"'STARTNA LISTA 1 do 3'!$A$7","v":4},null,4.5,4.5,4.5,null,null,null,{"$f":"IF(T15>0,+T15*6-W15,\"\")","v":27},{"$f":"IF(U15>0,+U15*6-X15,\"\")","v":27},{"$f":"IF(V15>0,+V15*6-Y15,\"\")","v":27},{"$f":"SUM(Z15:AB15)","v":81},{"$f":"IF(AC15>0,LARGE(Z15:AB15,1),\"\")","v":27},{"$f":"IF(AC15>0,LARGE(Z15:AB15,2),\"\")","v":27},{"$f":"IF(AC15>0,+AD15+AE15,0)","v":54},{"$f":"'STARTNA LISTA 1 do 3'!$A$7","v":4},null,{"$f":"IF(K15>0,K15,\"\")","v":18},{"$f":"IF(L15>0,L15,\"\")","v":22.5},{"$f":"IF(M15>0,M15,\"\")","v":22.5},{"$f":"N15","v":63},{"$f":"IF(O15>0,O15,\"\")","v":22.5},{"$f":"IF(P15>0,P15,\"\")","v":22.5},{"$f":"IF(Q15>0,Q15,\"\")","v":45},null,{"$f":"IF(Z15>0,Z15,\"\")","v":27},{"$f":"IF(AA15>0,AA15,\"\")","v":27},{"$f":"IF(AB15>0,AB15,\"\")","v":27},{"$f":"AC15","v":81},{"$f":"IF(AD15>0,AD15,\"\")","v":27},{"$f":"IF(AE15>0,AE15,\"\")","v":27},{"$f":"IF(AF15>0,AF15,\"\")","v":54},{"$f":"+N15+AC15","v":144},{"$f":"IF((AL15+AT15)>0,MAX(AM15,AU15),\"\")","v":27},{"$f":"(IF(AW15=\"\",0,AW15)+IF(AO15=\"\",0,AO15))","v":99}]
[2,{"$f":"'STARTNA LISTA 1 do 3'!$B$14","v":"MATIC ALJANČIČ"},{"$f":"'STARTNA LISTA 1 do 3'!$C$14","v":2008},{"$f":"'STARTNA LISTA 1 do 3'!$D$14","v":"BISTRICA"},3.5,3.75,3.5,3,3,null,18,19.5,21,58.5,21,19.5,40.5,{"$f":"'STARTNA LISTA 1 do 3'!$A$14","v":11},null,4.25,4.25,4,null,null,null,25.5,25.5,24,75,25.5,25.5,51,{"$f":"'STARTNA LISTA 1 do 3'!$A$14","v":11},null,18,19.5,21,58.5,21,19.5,40.5,null,25.5,25.5,24,75,25.5,25.5,51,133.5,25.5,91.5]
[3,{"$f":"'STARTNA LISTA 1 do 3'!$B$12","v":"MATIC PREMRL"},{"$f":"'STARTNA LISTA 1 do 3'!$C$12","v":2008},{"$f":"'STARTNA LISTA 1 do 3'!$D$12","v":"BISTRICA"},3.25,3.5,3.5,null,null,null,19.5,21,21,61.5,21,21,42,{"$f":"'STARTNA LISTA 1 do 3'!$A$12","v":9},null,4,3.25,4,null,null,null,24,19.5,24,67.5,24,24,48,{"$f":"'STARTNA LISTA 1 do 3'!$A$12","v":9},null,19.5,21,21,61.5,21,21,42,null,24,19.5,24,67.5,24,24,48,129,24,90]
[4,{"$f":"'STARTNA LISTA 1 do 3'!$B$8","v":"JAN MEGLIČ"},{"$f":"'STARTNA LISTA 1 do 3'!$C$8","v":2008},{"$f":"'STARTNA LISTA 1 do 3'!$D$8","v":"TRŽIČ, POD."},3,3.25,3.25,null,null,null,18,19.5,19.5,57,19.5,19.5,39,{"$f":"'STARTNA LISTA 1 do 3'!$A$8","v":5},null,3.5,4.25,4,null,null,null,21,25.5,24,70.5,25.5,24,49.5,{"$f":"'STARTNA LISTA 1 do 3'!$A$8","v":5},null,18,19.5,19.5,57,19.5,19.5,39,null,21,25.5,24,70.5,25.5,24,49.5,127.5,25.5,88.5]
[5,{"$f":"'STARTNA LISTA 1 do 3'!$B$24","v":"MATIC KALAN"},{"$f":"'STARTNA LISTA 1 do 3'!$C$24","v":2009},{"$f":"'STARTNA LISTA 1 do 3'!$D$24","v":"KRIŽE"},3,3.25,3.5,null,null,null,18,19.5,21,58.5,21,19.5,40.5,{"$f":"'STARTNA LISTA 1 do 3'!$A$24","v":21},null,3.5,3.75,4,null,null,null,21,22.5,24,67.5,24,22.5,46.5,{"$f":"'STARTNA LISTA 1 do 3'!$A$24","v":21},null,18,19.5,21,58.5,21,19.5,40.5,null,21,22.5,24,67.5,24,22.5,46.5,126,24,87]
[6,{"$f":"'STARTNA LISTA 1 do 3'!$B$6","v":"GABER ČERNILEC"},{"$f":"'STARTNA LISTA 1 do 3'!$C$6","v":2008},{"$f":"'STARTNA LISTA 1 do 3'!$D$6","v":"TRŽIČ"},3.25,3.25,3.25,null,null,null,19.5,19.5,19.5,58.5,19.5,19.5,39,{"$f":"'STARTNA LISTA 1 do 3'!$A$6","v":3},null,3.25,3.75,3.75,null,null,null,19.5,22.5,22.5,64.5,22.5,22.5,45,{"$f":"'STARTNA LISTA 1 do 3'!$A$6","v":3},null,19.5,19.5,19.5,58.5,19.5,19.5,39,null,19.5,22.5,22.5,64.5,22.5,22.5,45,123,22.5,84]
[7,{"$f":"'STARTNA LISTA 1 do 3'!$B$18","v":"NEJC STRNAD PODLESNIK"},{"$f":"'STARTNA LISTA 1 do 3'!$C$18","v":2008},{"$f":"'STARTNA LISTA 1 do 3'!$D$18","v":"KRIŽE"},2.75,3.25,2.75,null,null,null,16.5,19.5,16.5,52.5,19.5,16.5,36,{"$f":"'STARTNA LISTA 1 do 3'!$A$18","v":15},null,3.5,3.5,4.25,null,null,null,21,21,25.5,67.5,25.5,21,46.5,{"$f":"'STARTNA LISTA 1 do 3'!$A$18","v":15},null,16.5,19.5,16.5,52.5,19.5,16.5,36,null,21,21,25.5,67.5,25.5,21,46.5,120,25.5,82.5]
[8,{"$f":"'STARTNA LISTA 1 do 3'!$B$11","v":"ŽAN BEGOVIČ"},{"$f":"'STARTNA LISTA 1 do 3'!$C$11","v":2008},{"$f":"'STARTNA LISTA 1 do 3'!$D$11","v":"BISTRICA"},2,3.25,3.25,null,null,null,12,19.5,19.5,51,19.5,19.5,39,{"$f":"'STARTNA LISTA 1 do 3'!$A$11","v":8},null,3.75,3.5,3.5,null,null,null,22.5,21,21,64.5,22.5,21,43.5,{"$f":"'STARTNA LISTA 1 do 3'!$A$11","v":8},null,12,19.5,19.5,51,19.5,19.5,39,null,22.5,21,21,64.5,22.5,21,43.5,115.5,22.5,82.5]
[9,{"$f":"'STARTNA LISTA 1 do 3'!$B$4","v":"LENART TIŠLER"},{"$f":"'STARTNA LISTA 1 do 3'!$C$4","v":2008},{"$f":"'STARTNA LISTA 1 do 3'!$D$4","v":"TRŽIČ, LOM"},2.5,2.75,3,null,null,null,15,16.5,18,49.5,18,16.5,34.5,{"$f":"'STARTNA LISTA 1 do 3'!$A$4","v":1},null,3.5,3,3.25,null,null,null,21,18,19.5,58.5,21,19.5,40.5,{"$f":"'STARTNA LISTA 1 do 3'!$A$4","v":1},null,15,16.5,18,49.5,18,16.5,34.5,null,21,18,19.5,58.5,21,19.5,40.5,108,21,75]
[10,{"$f":"'STARTNA LISTA 1 do 3'!$B$15","v":"TIM ALJANČIČ"},{"$f":"'STARTNA LISTA 1 do 3'!$C$15","v":2009},{"$f":"'STARTNA LISTA 1 do 3'!$D$15","v":"BISTRICA"},2.5,2.25,3,null,null,3,15,13.5,15,43.5,15,15,30,{"$f":"'STARTNA LISTA 1 do 3'!$A$15","v":12},null,3.25,3.5,3.75,null,null,null,19.5,21,22.5,63,22.5,21,43.5,{"$f":"'STARTNA LISTA 1 do 3'!$A$15","v":12},null,15,13.5,15,43.5,15,15,30,null,19.5,21,22.5,63,22.5,21,43.5,106.5,22.5,73.5]
[11,{"$f":"'STARTNA LISTA 1 do 3'!$B$16","v":"NEJC RIBIČ"},{"$f":"'STARTNA LISTA 1 do 3'!$C$16","v":2010},{"$f":"'STARTNA LISTA 1 do 3'!$D$16","v":"BISTRICA"},2,2,2,3,6,null,9,6,12,27,12,9,21,{"$f":"'STARTNA LISTA 1 do 3'!$A$16","v":13},null,2.25,2.5,3.25,null,null,null,13.5,15,19.5,48,19.5,15,34.5,{"$f":"'STARTNA LISTA 1 do 3'!$A$16","v":13},null,9,6,12,27,12,9,21,null,13.5,15,19.5,48,19.5,15,34.5,75,19.5,55.5]
[12,{"$f":"'STARTNA LISTA 1 do 3'!$B$25","v":"ČRT BEČAN"},{"$f":"'STARTNA LISTA 1 do 3'!$C$25","v":2008},{"$f":"'STARTNA LISTA 1 do 3'!$D$25","v":"KRIŽE"},null,null,null,null,null,null,"","","",0,"","",0,{"$f":"'STARTNA LISTA 1 do 3'!$A$25","v":22},null,3.5,4.25,4.25,null,null,null,21,25.5,25.5,72,25.5,25.5,51,{"$f":"'STARTNA LISTA 1 do 3'!$A$25","v":22},null,"","","",0,"","","",null,21,25.5,25.5,72,25.5,25.5,51,72,25.5,51]
[13,{"$f":"'STARTNA LISTA 1 do 3'!$B$26","v":"MATIC STEGNAR"},{"$f":"'STARTNA LISTA 1 do 3'!$C$26","v":2008},{"$f":"'STARTNA LISTA 1 do 3'!$D$26","v":"BISTRICA"},null,null,null,null,null,null,"","","",0,"","",0,{"$f":"'STARTNA LISTA 1 do 3'!$A$26","v":23},null,3.5,4.25,4.25,null,null,null,21,25.5,25.5,72,25.5,25.5,51,{"$f":"'STARTNA LISTA 1 do 3'!$A$26","v":23},null,"","","",0,"","","",null,21,25.5,25.5,72,25.5,25.5,51,72,25.5,51]
[14,{"$f":"'STARTNA LISTA 1 do 3'!$B$19","v":"ANEJ TRATNIK PIRMAN"},{"$f":"'STARTNA LISTA 1 do 3'!$C$19","v":2008},{"$f":"'STARTNA LISTA 1 do 3'!$D$19","v":"KRIŽE"},3.25,3.5,3.5,null,3,6,19.5,18,15,52.5,19.5,18,37.5,{"$f":"'STARTNA LISTA 1 do 3'!$A$19","v":16},null,null,null,null,null,null,null,"","","",0,"","",0,{"$f":"'STARTNA LISTA 1 do 3'!$A$19","v":16},null,19.5,18,15,52.5,19.5,18,37.5,null,"","","",0,"","","",52.5,19.5,37.5]
[15,{"$f":"'STARTNA LISTA 1 do 3'!$B$27","v":"GAŠPER ZUPANC"},{"$f":"'STARTNA LISTA 1 do 3'!$C$27","v":2009},{"$f":"'STARTNA LISTA 1 do 3'!$D$27","v":"BISTRICA"},null,null,null,null,null,null,"","","",0,"","",0,{"$f":"'STARTNA LISTA 1 do 3'!$A$27","v":24},null,2.5,2.5,3,null,null,null,15,15,18,48,18,15,33,{"$f":"'STARTNA LISTA 1 do 3'!$A$27","v":24},null,"","","",0,"","","",null,15,15,18,48,18,15,33,48,18,33]
[16,{"$f":"'STARTNA LISTA 1 do 3'!$B$21","v":"TILEN POTOČNIK"},{"$f":"'STARTNA LISTA 1 do 3'!$C$21","v":2010},{"$f":"'STARTNA LISTA 1 do 3'!$D$21","v":"KRIŽE"},2.75,2.75,2.25,null,null,null,16.5,16.5,13.5,46.5,16.5,16.5,33,{"$f":"'STARTNA LISTA 1 do 3'!$A$21","v":18},null,null,null,null,null,null,null,"","","",0,"","",0,{"$f":"'STARTNA LISTA 1 do 3'!$A$21","v":18},null,16.5,16.5,13.5,46.5,16.5,16.5,33,null,"","","",0,"","","",46.5,16.5,33]
[17,{"$f":"'STARTNA LISTA 1 do 3'!$B$13","v":"LUKA BEGOVIČ"},{"$f":"'STARTNA LISTA 1 do 3'!$C$13","v":2010},{"$f":"'STARTNA LISTA 1 do 3'!$D$13","v":"BISTRICA"},null,null,null,null,null,null,"","","",0,"","",0,{"$f":"'STARTNA LISTA 1 do 3'!$A$13","v":10},null,2,2,2.5,null,null,null,12,12,15,39,15,12,27,{"$f":"'STARTNA LISTA 1 do 3'!$A$13","v":10},null,"","","",0,"","","",null,12,12,15,39,15,12,27,39,15,27]
[18,{"$f":"'STARTNA LISTA 1 do 3'!$B$30","v":"AMADEJ POLAJNAR"},{"$f":"'STARTNA LISTA 1 do 3'!$C$30","v":2008},{"$f":"'STARTNA LISTA 1 do 3'!$D$30","v":"KRIŽE"},null,null,null,null,null,null,"","","",0,"","",0,{"$f":"'STARTNA LISTA 1 do 3'!$A$30","v":27},null,2,2,2.25,null,null,null,12,12,13.5,37.5,13.5,12,25.5,{"$f":"'STARTNA LISTA 1 do 3'!$A$30","v":27},null,"","","",0,"","","",null,12,12,13.5,37.5,13.5,12,25.5,37.5,13.5,25.5]
[19,{"$f":"'STARTNA LISTA 1 do 3'!$B$22","v":"ŽAK ŠVAB"},{"$f":"'STARTNA LISTA 1 do 3'!$C$22","v":2010},{"$f":"'STARTNA LISTA 1 do 3'!$D$22","v":"KRIŽE"},1.75,2,2.25,null,null,null,10.5,12,13.5,36,13.5,12,25.5,{"$f":"'STARTNA LISTA 1 do 3'!$A$22","v":19},null,null,null,null,null,null,null,"","","",0,"","",0,{"$f":"'STARTNA LISTA 1 do 3'!$A$22","v":19},null,10.5,12,13.5,36,13.5,12,25.5,null,"","","",0,"","","",36,13.5,25.5]
[20,{"$f":"'STARTNA LISTA 1 do 3'!$B$23","v":"JERNEJ KOŠIR"},{"$f":"'STARTNA LISTA 1 do 3'!$C$23","v":2009},{"$f":"'STARTNA LISTA 1 do 3'!$D$23","v":"KRIŽE"},2.25,2.25,2,3,null,null,10.5,13.5,12,36,13.5,12,25.5,{"$f":"'STARTNA LISTA 1 do 3'!$A$23","v":20},null,null,null,null,null,null,null,"","","",0,"","",0,{"$f":"'STARTNA LISTA 1 do 3'!$A$23","v":20},null,10.5,13.5,12,36,13.5,12,25.5,null,"","","",0,"","","",36,13.5,25.5]
[21,{"$f":"'STARTNA LISTA 1 do 3'!$B$10","v":"VAL VERŠNIK"},{"$f":"'STARTNA LISTA 1 do 3'!$C$10","v":2010},{"$f":"'STARTNA LISTA 1 do 3'!$D$10","v":"TRŽIČ, POD."},2.5,2.5,2,6,null,3,9,15,9,33,15,9,24,{"$f":"'STARTNA LISTA 1 do 3'!$A$10","v":7},null,null,null,null,null,null,null,"","","",0,"","",0,{"$f":"'STARTNA LISTA 1 do 3'!$A$10","v":7},null,9,15,9,33,15,9,24,null,"","","",0,"","","",33,15,24]
[22,{"$f":"'STARTNA LISTA 1 do 3'!$B$17","v":"ROK GROS"},{"$f":"'STARTNA LISTA 1 do 3'!$C$17","v":2010},{"$f":"'STARTNA LISTA 1 do 3'!$D$17","v":"BISTRICA"},1.75,1.75,2.25,null,null,null,10.5,10.5,13.5,34.5,13.5,10.5,24,{"$f":"'STARTNA LISTA 1 do 3'!$A$17","v":14},null,null,null,null,null,null,null,"","","",0,"","",0,{"$f":"'STARTNA LISTA 1 do 3'!$A$17","v":14},null,10.5,10.5,13.5,34.5,13.5,10.5,24,null,"","","",0,"","","",34.5,13.5,24]
[23,{"$f":"'STARTNA LISTA 1 do 3'!$B$20","v":"TIM POTOČNIK"},{"$f":"'STARTNA LISTA 1 do 3'!$C$20","v":2010},{"$f":"'STARTNA LISTA 1 do 3'!$D$20","v":"KRIŽE"},2,2,3,3,3,6,9,9,12,30,12,9,21,{"$f":"'STARTNA LISTA 1 do 3'!$A$20","v":17},null,null,null,null,null,null,null,"","","",0,"","",0,{"$f":"'STARTNA LISTA 1 do 3'!$A$20","v":17},null,9,9,12,30,12,9,21,null,"","","",0,"","","",30,12,21]
[24,{"$f":"'STARTNA LISTA 1 do 3'!$B$5","v":" "},{"$f":"'STARTNA LISTA 1 do 3'!$C$5","v":" "},{"$f":"'STARTNA LISTA 1 do 3'!$D$5","v":" "},null,null,null,null,null,null,"","","",0,"","",0,{"$f":"'STARTNA LISTA 1 do 3'!$A$5","v":" "},null,null,null,null,null,null,null,"","","",0,"","",0,{"$f":"'STARTNA LISTA 1 do 3'!$A$5","v":" "},null,"","","",0,"","","",null,"","","",0,"","","",0,"",0]
[25,{"$f":"'STARTNA LISTA 1 do 3'!$B$9","v":" "},{"$f":"'STARTNA LISTA 1 do 3'!$C$9","v":" "},{"$f":"'STARTNA LISTA 1 do 3'!$D$9","v":" "},null,null,null,null,null,null,"","","",0,"","",0,{"$f":"'STARTNA LISTA 1 do 3'!$A$9","v":" "},null,null,null,null,null,null,null,"","","",0,"","",0,{"$f":"'STARTNA LISTA 1 do 3'!$A$9","v":" "},null,"","","",0,"","","",null,"","","",0,"","","",0,"",0]
[26,{"$f":"'STARTNA LISTA 1 do 3'!$B$28","v":" "},{"$f":"'STARTNA LISTA 1 do 3'!$C$28","v":" "},{"$f":"'STARTNA LISTA 1 do 3'!$D$28","v":" "},null,null,null,null,null,null,"","","",0,"","",0,{"$f":"'STARTNA LISTA 1 do 3'!$A$28","v":" "},null,null,null,null,null,null,null,"","","",0,"","",0,{"$f":"'STARTNA LISTA 1 do 3'!$A$28","v":" "},null,"","","",0,"","","",null,"","","",0,"","","",0,"",0]
[27,{"$f":"'STARTNA LISTA 1 do 3'!$B$29","v":" "},{"$f":"'STARTNA LISTA 1 do 3'!$C$29","v":" "},{"$f":"'STARTNA LISTA 1 do 3'!$D$29","v":" "},null,null,null,null,null,null,"","","",0,"","",0,{"$f":"'STARTNA LISTA 1 do 3'!$A$29","v":" "},null,null,null,null,null,null,null,"","","",0,"","",0,{"$f":"'STARTNA LISTA 1 do 3'!$A$29","v":" "},null,"","","",0,"","","",null,"","","",0,"","","",0,"",0]
[28,{"$f":"'STARTNA LISTA 1 do 3'!$B$31","v":" "},{"$f":"'STARTNA LISTA 1 do 3'!$C$31","v":" "},{"$f":"'STARTNA LISTA 1 do 3'!$D$31","v":" "},null,null,null,null,null,null,"","","",0,"","",0,{"$f":"'STARTNA LISTA 1 do 3'!$A$31","v":" "},null,null,null,null,null,null,null,"","","",0,"","",0,{"$f":"'STARTNA LISTA 1 do 3'!$A$31","v":" "},null,"","","",0,"","","",null,"","","",0,"","","",0,"",0]
[29,{"$f":"'STARTNA LISTA 1 do 3'!$B$32","v":" "},{"$f":"'STARTNA LISTA 1 do 3'!$C$32","v":" "},{"$f":"'STARTNA LISTA 1 do 3'!$D$32","v":" "},null,null,null,null,null,null,"","","",0,"","",0,{"$f":"'STARTNA LISTA 1 do 3'!$A$32","v":" "},null,null,null,null,null,null,null,"","","",0,"","",0,{"$f":"'STARTNA LISTA 1 do 3'!$A$32","v":" "},null,"","","",0,"","","",null,"","","",0,"","","",0,"",0]

{"sheet":"1. do 3. razred UČENKE","index":3,"n_rows":24,"n_cols":52,"rows_kept":24,"cut":false,"hidden":false,"merged":[[12,25,12,27],[12,34,12,36],[12,42,12,44],[12,4,12,6],[12,7,12,9],[12,10,12,12],[12,19,12,21],[12,22,12,24]]}
[null,"= Izvedba 1. tekme",null,"Rezultati 1. tekme"]
[null,"= Izvedba 2. tekme",null,"Rezultati 2. tekme"]
[null,null,null,"Končni rezultati"]
[]
[]
[null,null,"ORGANIZATOR NSK TRŽIČ FMG",null,null,null,null,null,null,null,"Vrednost dolžine skoka:",null,null,null,null,null,"1 m = 6 točk",null,null,null,null,null,null,null,null,"Vrednost dolžine skoka:",null,null,null,null,null,"1 m = 6 točk"]
[null,null,null,null,null,null,null,null,null,null,"Rezultat se ob podrsu zmanjša za:",null,null,null,null,null,"3 TOČKE",null,null,null,null,null,null,null,null,"Rezultat se ob podrsu zmanjša za:",null,null,null,null,null,"3 TOČKE"]
["ODPRTO ŠOLSKO PRVENSTVO V SMUČARSKIH SKOKIH ZA ŠOLSKO LETO 2016/17",null,null,null,null,null,null,null,null,null,"Rezultat se ob padcu zmanjša za:",null,null,null,null,null,"6 TOČK",null,null,null,null,null,null,null,null,"Rezultat se ob padcu zmanjša za:",null,null,null,null,null,"6 TOČK"]
["V skupni seštevek se upoštevata točkovno najboljša dva skoka"]
["V primeru delitve mesta,  se za razvrstitev šteje dolžina najdalšega skoka in nato še tisti skok, ki ni bil upoštevan v seštevek za končno število točk."]
[]
["REZULTATI",null,null,null,"Tržič 19.1.2017",null,null,null,null,null,null,null,null,null,null,null,null,null,null,"Tržič 16.2.2017",null,null,null,null,null,null,null,null,null,null,null,null,null,null,"Tržič 19.1.2017",null,null,null,null,null,null,null,"Tržič 16.2.2017"]
[null,"DEKLICE",null,"1., 2., 3. RAZRED","Dolžina skoka",null,null,"Odbitki doskoka",null,null,"Točk skok + doskok",null,null,null,"1.","2.","Skupaj","Št.",null,"Dolžina skoka",null,null,"Odbitki doskoka",null,null,"Točk skok + doskok",null,null,null,"1.","2.","Skupaj","Št.",null,"Točk skok + doskok",null,null,null,"1.","2.","Točk",null,"Točk skok + doskok",null,null,null,"1.","2.","Točk",null,"Naj","Končno"]
["Mesto","Ime in priimek","Letnik","Osnovna šola","1.SK.","2.SK.","3.SK.","1.SK.","2.SK.","3.SK.","1.SK.","2.SK.","3.SK.",null,"boljši","boljši","št. točk","štev.",null,"1.SK.","2.SK.","3.SK.","1.SK.","2.SK.","3.SK.","1.SK.","2.SK.","3.SK.",null,"boljši","boljši","št. točk","štev.",null,"1.SK.","2.SK.","3.SK.",null,"boljši","boljši","19.01.",null,"1.SK.","2.SK.","3.SK.",null,"boljši","boljši","16.02.",null,"skok","št. točk"]
[1,{"$f":"'STARTNA LISTA 1 do 3'!$B$43","v":"ULA ŠVAB"},{"$f":"'STARTNA LISTA 1 do 3'!$C$43","v":2008},{"$f":"'STARTNA LISTA 1 do 3'!$D$43","v":"KRIŽE"},3,2.5,3,null,null,null,{"$f":"IF(E15>0,+E15*6-H15,\"\")","v":18},{"$f":"IF(F15>0,+F15*6-I15,\"\")","v":15},{"$f":"IF(G15>0,+G15*6-J15,\"\")","v":18},{"$f":"SUM(K15:M15)","v":51},{"$f":"IF(N15>0,LARGE(K15:M15,1),\"\")","v":18},{"$f":"IF(N15>0,LARGE(K15:M15,2),\"\")","v":18},{"$f":"IF(N15>0,+O15+P15,0)","v":36},{"$f":"'STARTNA LISTA 1 do 3'!$A$43","v":33},null,3.25,4,3.75,null,null,null,{"$f":"IF(T15>0,+T15*6-W15,\"\")","v":19.5},{"$f":"IF(U15>0,+U15*6-X15,\"\")","v":24},{"$f":"IF(V15>0,+V15*6-Y15,\"\")","v":22.5},{"$f":"SUM(Z15:AB15)","v":66},{"$f":"IF(AC15>0,LARGE(Z15:AB15,1),\"\")","v":24},{"$f":"IF(AC15>0,LARGE(Z15:AB15,2),\"\")","v":22.5},{"$f":"IF(AC15>0,+AD15+AE15,0)","v":46.5},{"$f":"'STARTNA LISTA 1 do 3'!$A$43","v":33},null,{"$f":"IF(K15>0,K15,\"\")","v":18},{"$f":"IF(L15>0,L15,\"\")","v":15},{"$f":"IF(M15>0,M15,\"\")","v":18},{"$f":"N15","v":51},{"$f":"IF(O15>0,O15,\"\")","v":18},{"$f":"IF(P15>0,P15,\"\")","v":18},{"$f":"IF(Q15>0,Q15,\"\")","v":36},null,{"$f":"IF(Z15>0,Z15,\"\")","v":19.5},{"$f":"IF(AA15>0,AA15,\"\")","v":24},{"$f":"IF(AB15>0,AB15,\"\")","v":22.5},{"$f":"AC15","v":66},{"$f":"IF(AD15>0,AD15,\"\")","v":24},{"$f":"IF(AE15>0,AE15,\"\")","v":22.5},{"$f":"IF(AF15>0,AF15,\"\")","v":46.5},{"$f":"+N15+AC15","v":117},{"$f":"IF((AL15+AT15)>0,MAX(AM15,AU15),\"\")","v":24},{"$f":"(IF(AW15=\"\",0,AW15)+IF(AO15=\"\",0,AO15))","v":82.5}]
[2,{"$f":"'STARTNA LISTA 1 do 3'!$B$46","v":"HANNA KAVČIČ"},{"$f":"'STARTNA LISTA 1 do 3'!$C$46","v":2009},{"$f":"'STARTNA LISTA 1 do 3'!$D$46","v":"BISTRICA"},2.5,3,3,null,null,null,15,18,18,51,18,18,36,{"$f":"'STARTNA LISTA 1 do 3'!$A$46","v":36},null,3.5,3.75,3.5,null,null,null,21,22.5,21,64.5,22.5,21,43.5,{"$f":"'STARTNA LISTA 1 do 3'!$A$46","v":36},null,15,18,18,51,18,18,36,null,21,22.5,21,64.5,22.5,21,43.5,115.5,22.5,79.5]
[3,{"$f":"'STARTNA LISTA 1 do 3'!$B$40","v":"ULA BELHAR"},{"$f":"'STARTNA LISTA 1 do 3'!$C$40","v":2009},{"$f":"'STARTNA LISTA 1 do 3'!$D$40","v":"TRŽIČ"},2,2.75,3,null,null,null,12,16.5,18,46.5,18,16.5,34.5,{"$f":"'STARTNA LISTA 1 do 3'!$A$40","v":29},null,3.5,3.75,3,null,null,null,21,22.5,18,61.5,22.5,21,43.5,{"$f":"'STARTNA LISTA 1 do 3'!$A$40","v":29},null,12,16.5,18,46.5,18,16.5,34.5,null,21,22.5,18,61.5,22.5,21,43.5,108,22.5,78]
[4,{"$f":"'STARTNA LISTA 1 do 3'!$B$45","v":"ULA PERKO"},{"$f":"'STARTNA LISTA 1 do 3'!$C$45","v":2008},{"$f":"'STARTNA LISTA 1 do 3'!$D$45","v":"KRIŽE"},2.5,2.75,3.25,null,null,null,15,16.5,19.5,51,19.5,16.5,36,{"$f":"'STARTNA LISTA 1 do 3'!$A$45","v":35},null,3.25,3.5,3.5,null,null,null,19.5,21,21,61.5,21,21,42,{"$f":"'STARTNA LISTA 1 do 3'!$A$45","v":35},null,15,16.5,19.5,51,19.5,16.5,36,null,19.5,21,21,61.5,21,21,42,112.5,21,78]
[5,{"$f":"'STARTNA LISTA 1 do 3'!$B$41","v":"TINKARA SOKLIČ"},{"$f":"'STARTNA LISTA 1 do 3'!$C$41","v":2010},{"$f":"'STARTNA LISTA 1 do 3'!$D$41","v":"TRŽIČ"},2.25,2,2.5,null,null,null,13.5,12,15,40.5,15,13.5,28.5,{"$f":"'STARTNA LISTA 1 do 3'!$A$41","v":31},null,2.25,2.75,2.5,null,null,null,13.5,16.5,15,45,16.5,15,31.5,{"$f":"'STARTNA LISTA 1 do 3'!$A$41","v":31},null,13.5,12,15,40.5,15,13.5,28.5,null,13.5,16.5,15,45,16.5,15,31.5,85.5,16.5,60]
[6,{"$f":"'STARTNA LISTA 1 do 3'!$B$42","v":"ŽIVA MEGLIČ"},{"$f":"'STARTNA LISTA 1 do 3'!$C$42","v":2010},{"$f":"'STARTNA LISTA 1 do 3'!$D$42","v":"KRIŽE"},3,2.75,3,null,null,null,18,16.5,18,52.5,18,18,36,{"$f":"'STARTNA LISTA 1 do 3'!$A$42","v":32},null,null,null,null,null,null,null,"","","",0,"","",0,{"$f":"'STARTNA LISTA 1 do 3'!$A$42","v":32},null,18,16.5,18,52.5,18,18,36,null,"","","",0,"","","",52.5,18,36]
[7,{"$f":"'STARTNA LISTA 1 do 3'!$B$49","v":"ZALA DOLHAR"},{"$f":"'STARTNA LISTA 1 do 3'!$C$49","v":2008},{"$f":"'STARTNA LISTA 1 do 3'!$D$49","v":"TRŽIČ"},null,null,null,null,null,null,"","","",0,"","",0,{"$f":"'STARTNA LISTA 1 do 3'!$A$49","v":39},null,3,2.75,2.75,null,null,null,18,16.5,16.5,51,18,16.5,34.5,{"$f":"'STARTNA LISTA 1 do 3'!$A$49","v":39},null,"","","",0,"","","",null,18,16.5,16.5,51,18,16.5,34.5,51,18,34.5]
[8,{"$f":"'STARTNA LISTA 1 do 3'!$B$48","v":"VITA MARKELJ"},{"$f":"'STARTNA LISTA 1 do 3'!$C$48","v":2008},{"$f":"'STARTNA LISTA 1 do 3'!$D$48","v":"KRIŽE"},null,null,null,null,null,null,"","","",0,"","",0,{"$f":"'STARTNA LISTA 1 do 3'!$A$48","v":38},null,2.75,2.75,2.75,null,null,null,16.5,16.5,16.5,49.5,16.5,16.5,33,{"$f":"'STARTNA LISTA 1 do 3'!$A$48","v":38},null,"","","",0,"","","",null,16.5,16.5,16.5,49.5,16.5,16.5,33,49.5,16.5,33]
[9,{"$f":"'STARTNA LISTA 1 do 3'!$B$47","v":"URŠA PREMRL"},{"$f":"'STARTNA LISTA 1 do 3'!$C$47","v":2010},{"$f":"'STARTNA LISTA 1 do 3'!$D$47","v":"BISTRICA"},null,null,null,null,null,null,"","","",0,"","",0,{"$f":"'STARTNA LISTA 1 do 3'!$A$47","v":37},null,2.5,2.25,2.25,null,null,null,15,13.5,13.5,42,15,13.5,28.5,{"$f":"'STARTNA LISTA 1 do 3'!$A$47","v":37},null,"","","",0,"","","",null,15,13.5,13.5,42,15,13.5,28.5,42,15,28.5]
[10,{"$f":"'STARTNA LISTA 1 do 3'!$B$44","v":"ŽIVA DOLHAR"},{"$f":"'STARTNA LISTA 1 do 3'!$C$44","v":2010},{"$f":"'STARTNA LISTA 1 do 3'!$D$44","v":"TRŽIČ"},null,null,null,null,null,null,"","","",0,"","",0,{"$f":"'STARTNA LISTA 1 do 3'!$A$44","v":34},null,2,2,2,null,null,null,12,12,12,36,12,12,24,{"$f":"'STARTNA LISTA 1 do 3'!$A$44","v":34},null,"","","",0,"","","",null,12,12,12,36,12,12,24,36,12,24]

{"sheet":"4. in 5. razred UČENCI","index":4,"n_rows":34,"n_cols":52,"rows_kept":34,"cut":false,"hidden":false,"merged":[[12,34,12,36],[12,42,12,44],[12,4,12,6],[12,7,12,9],[12,10,12,12],[12,19,12,21],[12,22,12,24],[12,25,12,27]]}
[null,"= Izvedba 1. tekme",null,"Rezultati 1. tekme"]
[null,"= Izvedba 2. tekme",null,"Rezultati 2. tekme"]
[null,null,null,"Končni rezultati"]
[]
[]
[null,null,"ORGANIZATOR NSK TRŽIČ FMG",null,null,null,null,null,null,null,"Vrednost dolžine skoka:",null,null,null,null,null,"1 m = 6 točk",null,null,null,null,null,null,null,null,"Vrednost dolžine skoka:",null,null,null,null,null,"1 m = 6 točk"]
[null,null,null,null,null,null,null,null,null,null,"Rezultat se ob podrsu zmanjša za:",null,null,null,null,null,"3 TOČKE",null,null,null,null,null,null,null,null,"Rezultat se ob podrsu zmanjša za:",null,null,null,null,null,"3 TOČKE"]
["ODPRTO ŠOLSKO PRVENSTVO V SMUČARSKIH SKOKIH ZA ŠOLSKO LETO 2016/17",null,null,null,null,null,null,null,null,null,"Rezultat se ob padcu zmanjša za:",null,null,null,null,null,"6 TOČK",null,null,null,null,null,null,null,null,"Rezultat se ob padcu zmanjša za:",null,null,null,null,null,"6 TOČK"]
["V skupni seštevek se upoštevata točkovno najboljša dva skoka"]
["V primeru delitve mesta,  se za razvrstitev šteje dolžina najdalšega skoka in nato še tisti skok, ki ni bil upoštevan v seštevek za končno število točk."]
[]
["REZULTATI",null,null,null,"Tržič 19.1.2017",null,null,null,null,null,null,null,null,null,null,null,null,null,null,"Tržič 16.2.2017",null,null,null,null,null,null,null,null,null,null,null,null,null,null,"Tržič 19.1.2017",null,null,null,null,null,null,null,"Tržič 16.2.2017"]
[null,"DEČKI",null,"4. in 5. RAZRED","Dolžina skoka",null,null,"Odbitki doskoka",null,null,"Točk skok + doskok",null,null,null,"1.","2.","Skupaj","Št.",null,"Dolžina skoka",null,null,"Odbitki doskoka",null,null,"Točk skok + doskok",null,null,null,"1.","2.","Skupaj","Št.",null,"Točk skok + doskok",null,null,null,"1.","2.","Točk",null,"Točk skok + doskok",null,null,null,"1.","2.","Točk",null,"Naj","Končno"]
["Mesto","Ime in priimek","Letnik","Osnovna šola","1.SK.","2.SK.","3.SK.","1.SK.","2.SK.","3.SK.","1.SK.","2.SK.","3.SK.",null,"boljši","boljši","št. točk","štev.",null,"1.SK.","2.SK.","3.SK.","1.SK.","2.SK.","3.SK.","1.SK.","2.SK.","3.SK.",null,"boljši","boljši","št. točk","štev.",null,"1.SK.","2.SK.","3.SK.",null,"boljši","boljši","19.01.",null,"1.SK.","2.SK.","3.SK.",null,"boljši","boljši","16.02.",null,"skok","št. točk"]
[1,{"$f":"'STARTNA LISTA 4 in 5'!$B$9","v":"MATIC SOKLIČ"},{"$f":"'STARTNA LISTA 4 in 5'!$C$9","v":2006},{"$f":"'STARTNA LISTA 4 in 5'!$D$9","v":"TRŽIČ"},3.5,3.5,3.75,null,null,null,{"$f":"IF(E15>0,+E15*6-H15,\"\")","v":21},{"$f":"IF(F15>0,+F15*6-I15,\"\")","v":21},{"$f":"IF(G15>0,+G15*6-J15,\"\")","v":22.5},{"$f":"SUM(K15:M15)","v":64.5},{"$f":"IF(N15>0,LARGE(K15:M15,1),\"\")","v":22.5},{"$f":"IF(N15>0,LARGE(K15:M15,2),\"\")","v":21},{"$f":"IF(N15>0,+O15+P15,0)","v":43.5},{"$f":"'STARTNA LISTA 4 in 5'!$A$9","v":45},null,5,5.25,5.25,null,null,null,{"$f":"IF(T15>0,+T15*6-W15,\"\")","v":30},{"$f":"IF(U15>0,+U15*6-X15,\"\")","v":31.5},{"$f":"IF(V15>0,+V15*6-Y15,\"\")","v":31.5},{"$f":"SUM(Z15:AB15)","v":93},{"$f":"IF(AC15>0,LARGE(Z15:AB15,1),\"\")","v":31.5},{"$f":"IF(AC15>0,LARGE(Z15:AB15,2),\"\")","v":31.5},{"$f":"IF(AC15>0,+AD15+AE15,0)","v":63},{"$f":"'STARTNA LISTA 4 in 5'!$A$9","v":45},null,{"$f":"IF(K15>0,K15,\"\")","v":21},{"$f":"IF(L15>0,L15,\"\")","v":21},{"$f":"IF(M15>0,M15,\"\")","v":22.5},{"$f":"N15","v":64.5},{"$f":"IF(O15>0,O15,\"\")","v":22.5},{"$f":"IF(P15>0,P15,\"\")","v":21},{"$f":"IF(Q15>0,Q15,\"\")","v":43.5},null,{"$f":"IF(Z15>0,Z15,\"\")","v":30},{"$f":"IF(AA15>0,AA15,\"\")","v":31.5},{"$f":"IF(AB15>0,AB15,\"\")","v":31.5},{"$f":"AC15","v":93},{"$f":"IF(AD15>0,AD15,\"\")","v":31.5},{"$f":"IF(AE15>0,AE15,\"\")","v":31.5},{"$f":"IF(AF15>0,AF15,\"\")","v":63},null,{"$f":"IF((AL15+AT15)>0,MAX(AM15,AU15),\"\")","v":31.5},{"$f":"(IF(AW15=\"\",0,AW15)+IF(AO15=\"\",0,AO15))","v":106.5}]
[2,{"$f":"'STARTNA LISTA 4 in 5'!$B$11","v":"MAJ FROLICH"},{"$f":"'STARTNA LISTA 4 in 5'!$C$11","v":2006},{"$f":"'STARTNA LISTA 4 in 5'!$D$11","v":"TRŽIČ, POD."},3.75,3.75,4,null,null,null,22.5,22.5,24,69,24,22.5,46.5,{"$f":"'STARTNA LISTA 4 in 5'!$A$11","v":47},null,5,5.25,5,null,null,null,30,31.5,30,91.5,31.5,30,61.5,{"$f":"'STARTNA LISTA 4 in 5'!$A$11","v":47},null,22.5,22.5,24,69,24,22.5,46.5,null,30,31.5,30,91.5,31.5,30,61.5,null,31.5,108]
[3,{"$f":"'STARTNA LISTA 4 in 5'!$B$10","v":"MAJ SOKLIČ"},{"$f":"'STARTNA LISTA 4 in 5'!$C$10","v":2006},{"$f":"'STARTNA LISTA 4 in 5'!$D$10","v":"TRŽIČ"},4,4,4,null,null,null,24,24,24,72,24,24,48,{"$f":"'STARTNA LISTA 4 in 5'!$A$10","v":46},null,4.5,4.75,4.75,null,null,null,27,28.5,28.5,84,28.5,28.5,57,{"$f":"'STARTNA LISTA 4 in 5'!$A$10","v":46},null,24,24,24,72,24,24,48,null,27,28.5,28.5,84,28.5,28.5,57,null,28.5,105]
[4,{"$f":"'STARTNA LISTA 4 in 5'!$B$17","v":"MATEVŽ GRAŠIČ"},{"$f":"'STARTNA LISTA 4 in 5'!$C$17","v":2007},{"$f":"'STARTNA LISTA 4 in 5'!$D$17","v":"KRIŽE"},3.25,3.25,3.75,null,null,null,19.5,19.5,22.5,61.5,22.5,19.5,42,{"$f":"'STARTNA LISTA 4 in 5'!$A$17","v":53},null,4.5,4.75,4.75,null,null,null,27,28.5,28.5,84,28.5,28.5,57,{"$f":"'STARTNA LISTA 4 in 5'!$A$17","v":53},null,19.5,19.5,22.5,61.5,22.5,19.5,42,null,27,28.5,28.5,84,28.5,28.5,57,null,28.5,99]
[5,{"$f":"'STARTNA LISTA 4 in 5'!$B$15","v":"DAVID MEGLIČ"},{"$f":"'STARTNA LISTA 4 in 5'!$C$15","v":2007},{"$f":"'STARTNA LISTA 4 in 5'!$D$15","v":"BISTRICA"},2.75,3,3,null,null,null,16.5,18,18,52.5,18,18,36,{"$f":"'STARTNA LISTA 4 in 5'!$A$15","v":51},null,4.25,4.75,4.75,null,null,null,25.5,28.5,28.5,82.5,28.5,28.5,57,{"$f":"'STARTNA LISTA 4 in 5'!$A$15","v":51},null,16.5,18,18,52.5,18,18,36,null,25.5,28.5,28.5,82.5,28.5,28.5,57,null,28.5,93]
[6,{"$f":"'STARTNA LISTA 4 in 5'!$B$13","v":"GAŠPER ČERNILEC"},{"$f":"'STARTNA LISTA 4 in 5'!$C$13","v":2007},{"$f":"'STARTNA LISTA 4 in 5'!$D$13","v":"TRŽIČ, POD."},3.75,3.5,3.5,null,null,null,22.5,21,21,64.5,22.5,21,43.5,{"$f":"'STARTNA LISTA 4 in 5'!$A$13","v":49},null,4.5,3.5,4.5,null,null,null,27,21,27,75,27,27,54,{"$f":"'STARTNA LISTA 4 in 5'!$A$13","v":49},null,22.5,21,21,64.5,22.5,21,43.5,null,27,21,27,75,27,27,54,null,27,97.5]
[7,{"$f":"'STARTNA LISTA 4 in 5'!$B$16","v":"URH ŽOS"},{"$f":"'STARTNA LISTA 4 in 5'!$C$16","v":2007},{"$f":"'STARTNA LISTA 4 in 5'!$D$16","v":"BISTRICA"},2.75,2.25,3,null,null,null,16.5,13.5,18,48,18,16.5,34.5,{"$f":"'STARTNA LISTA 4 in 5'!$A$16","v":52},null,3.75,4,4.25,null,null,null,22.5,24,25.5,72,25.5,24,49.5,{"$f":"'STARTNA LISTA 4 in 5'!$A$16","v":52},null,16.5,13.5,18,48,18,16.5,34.5,null,22.5,24,25.5,72,25.5,24,49.5,null,25.5,84]
[8,{"$f":"'STARTNA LISTA 4 in 5'!$B$8","v":"ALEN HADŽIĆ"},{"$f":"'STARTNA LISTA 4 in 5'!$C$8","v":2006},{"$f":"'STARTNA LISTA 4 in 5'!$D$8","v":"TRŽIČ"},2.5,2.75,3,null,null,null,15,16.5,18,49.5,18,16.5,34.5,{"$f":"'STARTNA LISTA 4 in 5'!$A$8","v":44},null,3.25,3.75,3.75,null,null,null,19.5,22.5,22.5,64.5,22.5,22.5,45,{"$f":"'STARTNA LISTA 4 in 5'!$A$8","v":44},null,15,16.5,18,49.5,18,16.5,34.5,null,19.5,22.5,22.5,64.5,22.5,22.5,45,null,22.5,79.5]
[9,{"$f":"'STARTNA LISTA 4 in 5'!$B$4","v":"OŽBEJ BELHAR"},{"$f":"'STARTNA LISTA 4 in 5'!$C$4","v":2007},{"$f":"'STARTNA LISTA 4 in 5'!$D$4","v":"TRŽIČ"},2,2.25,2.75,null,null,null,12,13.5,16.5,42,16.5,13.5,30,{"$f":"'STARTNA LISTA 4 in 5'!$A$4","v":80},null,2,2.75,3,null,null,null,12,16.5,18,46.5,18,16.5,34.5,{"$f":"'STARTNA LISTA 4 in 5'!$A$4","v":80},null,12,13.5,16.5,42,16.5,13.5,30,null,12,16.5,18,46.5,18,16.5,34.5,null,18,64.5]
[10,{"$f":"'STARTNA LISTA 4 in 5'!$B$6","v":"ANEJ PAPLER"},{"$f":"'STARTNA LISTA 4 in 5'!$C$6","v":2006},{"$f":"'STARTNA LISTA 4 in 5'!$D$6","v":"TRŽIČ"},3.25,3.75,3.5,null,null,3,19.5,22.5,18,60,22.5,19.5,42,{"$f":"'STARTNA LISTA 4 in 5'!$A$6","v":42},null,null,null,null,null,null,null,"","","",0,"","",0,{"$f":"'STARTNA LISTA 4 in 5'!$A$6","v":42},null,19.5,22.5,18,60,22.5,19.5,42,null,"","","",0,"","","",null,22.5,42]
[11,{"$f":"'STARTNA LISTA 4 in 5'!$B$18","v":"LUKA SKODLAR"},{"$f":"'STARTNA LISTA 4 in 5'!$C$18","v":2006},{"$f":"'STARTNA LISTA 4 in 5'!$D$18","v":"NAKLO POD."},3.25,3.5,3.5,null,null,null,19.5,21,21,61.5,21,21,42,{"$f":"'STARTNA LISTA 4 in 5'!$A$18","v":54},null,null,null,null,null,null,null,"","","",0,"","",0,{"$f":"'STARTNA LISTA 4 in 5'!$A$18","v":54},null,19.5,21,21,61.5,21,21,42,null,"","","",0,"","","",null,21,42]
[12,{"$f":"'STARTNA LISTA 4 in 5'!$B$19","v":"AME KOZJEK"},{"$f":"'STARTNA LISTA 4 in 5'!$C$19","v":2006},{"$f":"'STARTNA LISTA 4 in 5'!$D$19","v":"NAKLO POD."},3.5,3.5,3.25,null,null,null,21,21,19.5,61.5,21,21,42,{"$f":"'STARTNA LISTA 4 in 5'!$A$19","v":55},null,null,null,null,null,null,null,"","","",0,"","",0,{"$f":"'STARTNA LISTA 4 in 5'!$A$19","v":55},null,21,21,19.5,61.5,21,21,42,null,"","","",0,"","","",null,21,42]
[13,{"$f":"'STARTNA LISTA 4 in 5'!$B$5","v":"KRISTJAN R.ZUPANČIČ"},{"$f":"'STARTNA LISTA 4 in 5'!$C$5","v":2007},{"$f":"'STARTNA LISTA 4 in 5'!$D$5","v":"TRŽIČ"},3.5,3.25,3,null,null,null,21,19.5,18,58.5,21,19.5,40.5,{"$f":"'STARTNA LISTA 4 in 5'!$A$5","v":41},null,null,null,null,null,null,null,"","","",0,"","",0,{"$f":"'STARTNA LISTA 4 in 5'!$A$5","v":41},null,21,19.5,18,58.5,21,19.5,40.5,null,"","","",0,"","","",null,21,40.5]
[14,{"$f":"'STARTNA LISTA 4 in 5'!$B$22","v":"MARK AHČIN"},{"$f":"'STARTNA LISTA 4 in 5'!$C$22","v":2007},{"$f":"'STARTNA LISTA 4 in 5'!$D$22","v":"KRIŽE"},2.75,3.5,3.25,null,null,null,16.5,21,19.5,57,21,19.5,40.5,{"$f":"'STARTNA LISTA 4 in 5'!$A$22","v":58},null,null,null,null,null,null,null,"","","",0,"","",0,{"$f":"'STARTNA LISTA 4 in 5'!$A$22","v":58},null,16.5,21,19.5,57,21,19.5,40.5,null,"","","",0,"","","",null,21,40.5]
[15,{"$f":"'STARTNA LISTA 4 in 5'!$B$7","v":"VENO BAJAZET"},{"$f":"'STARTNA LISTA 4 in 5'!$C$7","v":2006},{"$f":"'STARTNA LISTA 4 in 5'!$D$7","v":"TRŽIČ"},3.25,3.5,3.25,null,null,null,19.5,21,19.5,60,21,19.5,40.5,{"$f":"'STARTNA LISTA 4 in 5'!$A$7","v":83},null,null,null,null,null,null,null,"","","",0,"","",0,{"$f":"'STARTNA LISTA 4 in 5'!$A$7","v":83},null,19.5,21,19.5,60,21,19.5,40.5,null,"","","",0,"","","",null,21,40.5]
[16,{"$f":"'STARTNA LISTA 4 in 5'!$B$14","v":"LOVRO GAL JANC"},{"$f":"'STARTNA LISTA 4 in 5'!$C$14","v":2007},{"$f":"'STARTNA LISTA 4 in 5'!$D$14","v":"TRŽIČ, POD."},3.25,3.25,3.75,null,null,3,19.5,19.5,19.5,58.5,19.5,19.5,39,{"$f":"'STARTNA LISTA 4 in 5'!$A$14","v":50},null,null,null,null,null,null,null,"","","",0,"","",0,{"$f":"'STARTNA LISTA 4 in 5'!$A$14","v":50},null,19.5,19.5,19.5,58.5,19.5,19.5,39,null,"","","",0,"","","",null,19.5,39]
[17,{"$f":"'STARTNA LISTA 4 in 5'!$B$20","v":"GAL MIHELIČ"},{"$f":"'STARTNA LISTA 4 in 5'!$C$20","v":2006},{"$f":"'STARTNA LISTA 4 in 5'!$D$20","v":"NAKLO POD."},2,3,2.75,null,null,null,12,18,16.5,46.5,18,16.5,34.5,{"$f":"'STARTNA LISTA 4 in 5'!$A$20","v":56},null,null,null,null,null,null,null,"","","",0,"","",0,{"$f":"'STARTNA LISTA 4 in 5'!$A$20","v":56},null,12,18,16.5,46.5,18,16.5,34.5,null,"","","",0,"","","",null,18,34.5]
[18,{"$f":"'STARTNA LISTA 4 in 5'!$B$21","v":"URBAN KUKOVIČ"},{"$f":"'STARTNA LISTA 4 in 5'!$C$21","v":2006},{"$f":"'STARTNA LISTA 4 in 5'!$D$21","v":"BISTRICA"},2.75,2.75,2.75,null,null,null,16.5,16.5,16.5,49.5,16.5,16.5,33,{"$f":"'STARTNA LISTA 4 in 5'!$A$21","v":57},null,null,null,null,null,null,null,"","","",0,"","",0,{"$f":"'STARTNA LISTA 4 in 5'!$A$21","v":57},null,16.5,16.5,16.5,49.5,16.5,16.5,33,null,"","","",0,"","","",null,16.5,33]
[19,{"$f":"'STARTNA LISTA 4 in 5'!$B$12","v":" "},{"$f":"'STARTNA LISTA 4 in 5'!$C$12","v":" "},{"$f":"'STARTNA LISTA 4 in 5'!$D$12","v":" "},null,null,null,null,null,null,"","","",0,"","",0,{"$f":"'STARTNA LISTA 4 in 5'!$A$12","v":" "},null,null,null,null,null,null,null,"","","",0,"","",0,{"$f":"'STARTNA LISTA 4 in 5'!$A$12","v":" "},null,"","","",0,"","","",null,"","","",0,"","","",null,"",0]
[20,{"$f":"'STARTNA LISTA 4 in 5'!$B$23","v":" "},{"$f":"'STARTNA LISTA 4 in 5'!$C$23","v":" "},{"$f":"'STARTNA LISTA 4 in 5'!$D$23","v":" "},null,null,null,null,null,null,"","","",0,"","",0,{"$f":"'STARTNA LISTA 4 in 5'!$A$23","v":" "},null,null,null,null,null,null,null,"","","",0,"","",0,{"$f":"'STARTNA LISTA 4 in 5'!$A$23","v":" "},null,"","","",0,"","","",null,"","","",0,"","","",null,"",0]

{"sheet":"4. in 5. razred UČENKE","index":5,"n_rows":34,"n_cols":52,"rows_kept":34,"cut":false,"hidden":false,"merged":[[12,34,12,36],[12,42,12,44],[12,4,12,6],[12,7,12,9],[12,10,12,12],[12,19,12,21],[12,22,12,24],[12,25,12,27]]}
[null,"= Izvedba 1. tekme",null,"Rezultati 1. tekme"]
[null,"= Izvedba 2. tekme",null,"Rezultati 2. tekme"]
[null,null,null,"Končni rezultati"]
[]
[]
[null,null,"ORGANIZATOR NSK TRŽIČ FMG",null,null,null,null,null,null,null,"Vrednost dolžine skoka:",null,null,null,null,null,"1 m = 6 točk",null,null,null,null,null,null,null,null,"Vrednost dolžine skoka:",null,null,null,null,null,"1 m = 6 točk"]
[null,null,null,null,null,null,null,null,null,null,"Rezultat se ob podrsu zmanjša za:",null,null,null,null,null,"3 TOČKE",null,null,null,null,null,null,null,null,"Rezultat se ob podrsu zmanjša za:",null,null,null,null,null,"3 TOČKE"]
["ODPRTO ŠOLSKO PRVENSTVO V SMUČARSKIH SKOKIH ZA ŠOLSKO LETO 2016/17",null,null,null,null,null,null,null,null,null,"Rezultat se ob padcu zmanjša za:",null,null,null,null,null,"6 TOČK",null,null,null,null,null,null,null,null,"Rezultat se ob padcu zmanjša za:",null,null,null,null,null,"6 TOČK"]
["V skupni seštevek se upoštevata točkovno najboljša dva skoka"]
["V primeru delitve mesta,  se za razvrstitev šteje dolžina najdalšega skoka in nato še tisti skok, ki ni bil upoštevan v seštevek za končno število točk."]
[]
["REZULTATI",null,null,null,"Tržič 19.1.2017",null,null,null,null,null,null,null,null,null,null,null,null,null,null,"Tržič 16.2.2017",null,null,null,null,null,null,null,null,null,null,null,null,null,null,"Tržič 19.1.2017",null,null,null,null,null,null,null,"Tržič 16.2.2017"]
[null,"DEKLICE",null,"4. in 5. RAZRED","Dolžina skoka",null,null,"Odbitki doskoka",null,null,"Točk skok + doskok",null,null,null,"1.","2.","Skupaj","Št.",null,"Dolžina skoka",null,null,"Odbitki doskoka",null,null,"Točk skok + doskok",null,null,null,"1.","2.","Skupaj","Št.",null,"Točk skok + doskok",null,null,null,"1.","2.","Točk",null,"Točk skok + doskok",null,null,null,"1.","2.","Točk",null,"Naj","Končno"]
["Mesto","Ime in priimek","Letnik","Osnovna šola","1.SK.","2.SK.","3.SK.","1.SK.","2.SK.","3.SK.","1.SK.","2.SK.","3.SK.",null,"boljši","boljši","št. točk","štev.",null,"1.SK.","2.SK.","3.SK.","1.SK.","2.SK.","3.SK.","1.SK.","2.SK.","3.SK.",null,"boljši","boljši","št. točk","štev.",null,"1.SK.","2.SK.","3.SK.",null,"boljši","boljši","19.01.",null,"1.SK.","2.SK.","3.SK.",null,"boljši","boljši","16.02.",null,"skok","št. točk"]
[1,{"$f":"'STARTNA LISTA 4 in 5'!$B$40","v":"ULLA KAVČIČ"},{"$f":"'STARTNA LISTA 4 in 5'!$C$40","v":2006},{"$f":"'STARTNA LISTA 4 in 5'!$D$40","v":"BISTRICA"},3,3,3.25,null,null,null,{"$f":"IF(E15>0,+E15*6-H15,\"\")","v":18},{"$f":"IF(F15>0,+F15*6-I15,\"\")","v":18},{"$f":"IF(G15>0,+G15*6-J15,\"\")","v":19.5},{"$f":"SUM(K15:M15)","v":55.5},{"$f":"IF(N15>0,LARGE(K15:M15,1),\"\")","v":19.5},{"$f":"IF(N15>0,LARGE(K15:M15,2),\"\")","v":18},{"$f":"IF(N15>0,+O15+P15,0)","v":37.5},{"$f":"'STARTNA LISTA 4 in 5'!$A$40","v":68},null,4.5,4.25,4.25,null,null,null,{"$f":"IF(T15>0,+T15*6-W15,\"\")","v":27},{"$f":"IF(U15>0,+U15*6-X15,\"\")","v":25.5},{"$f":"IF(V15>0,+V15*6-Y15,\"\")","v":25.5},{"$f":"SUM(Z15:AB15)","v":78},{"$f":"IF(AC15>0,LARGE(Z15:AB15,1),\"\")","v":27},{"$f":"IF(AC15>0,LARGE(Z15:AB15,2),\"\")","v":25.5},{"$f":"IF(AC15>0,+AD15+AE15,0)","v":52.5},{"$f":"'STARTNA LISTA 4 in 5'!$A$40","v":68},null,{"$f":"IF(K15>0,K15,\"\")","v":18},{"$f":"IF(L15>0,L15,\"\")","v":18},{"$f":"IF(M15>0,M15,\"\")","v":19.5},{"$f":"N15","v":55.5},{"$f":"IF(O15>0,O15,\"\")","v":19.5},{"$f":"IF(P15>0,P15,\"\")","v":18},{"$f":"IF(Q15>0,Q15,\"\")","v":37.5},null,{"$f":"IF(Z15>0,Z15,\"\")","v":27},{"$f":"IF(AA15>0,AA15,\"\")","v":25.5},{"$f":"IF(AB15>0,AB15,\"\")","v":25.5},{"$f":"AC15","v":78},{"$f":"IF(AD15>0,AD15,\"\")","v":27},{"$f":"IF(AE15>0,AE15,\"\")","v":25.5},{"$f":"IF(AF15>0,AF15,\"\")","v":52.5},null,{"$f":"IF((AL15+AT15)>0,MAX(AM15,AU15),\"\")","v":27},{"$f":"(IF(AW15=\"\",0,AW15)+IF(AO15=\"\",0,AO15))","v":90}]
[2,{"$f":"'STARTNA LISTA 4 in 5'!$B$36","v":"NEŽA ROŽIČ"},{"$f":"'STARTNA LISTA 4 in 5'!$C$36","v":2007},{"$f":"'STARTNA LISTA 4 in 5'!$D$36","v":"BISTRICA"},2.5,3,3.5,null,null,null,15,18,21,54,21,18,39,{"$f":"'STARTNA LISTA 4 in 5'!$A$36","v":64},null,3.25,3.5,3.75,null,null,null,19.5,21,22.5,63,22.5,21,43.5,{"$f":"'STARTNA LISTA 4 in 5'!$A$36","v":64},null,15,18,21,54,21,18,39,null,19.5,21,22.5,63,22.5,21,43.5,null,22.5,82.5]
[3,{"$f":"'STARTNA LISTA 4 in 5'!$B$38","v":"LUCIJA DOVŽAN"},{"$f":"'STARTNA LISTA 4 in 5'!$C$38","v":2007},{"$f":"'STARTNA LISTA 4 in 5'!$D$38","v":"KRIŽE"},2.5,3,3.25,null,null,null,15,18,19.5,52.5,19.5,18,37.5,{"$f":"'STARTNA LISTA 4 in 5'!$A$38","v":66},null,3.25,3.5,3.5,null,null,null,19.5,21,21,61.5,21,21,42,{"$f":"'STARTNA LISTA 4 in 5'!$A$38","v":66},null,15,18,19.5,52.5,19.5,18,37.5,null,19.5,21,21,61.5,21,21,42,null,21,79.5]
[4,{"$f":"'STARTNA LISTA 4 in 5'!$B$37","v":"NECA MEGLIČ"},{"$f":"'STARTNA LISTA 4 in 5'!$C$37","v":2007},{"$f":"'STARTNA LISTA 4 in 5'!$D$37","v":"KRIŽE"},2,2.75,2.75,null,null,null,12,16.5,16.5,45,16.5,16.5,33,{"$f":"'STARTNA LISTA 4 in 5'!$A$37","v":65},null,3.25,3.5,3.25,null,null,null,19.5,21,19.5,60,21,19.5,40.5,{"$f":"'STARTNA LISTA 4 in 5'!$A$37","v":65},null,12,16.5,16.5,45,16.5,16.5,33,null,19.5,21,19.5,60,21,19.5,40.5,null,21,73.5]
[5,{"$f":"'STARTNA LISTA 4 in 5'!$B$35","v":"BARBARA RIBIČ"},{"$f":"'STARTNA LISTA 4 in 5'!$C$35","v":2007},{"$f":"'STARTNA LISTA 4 in 5'!$D$35","v":"BISTRICA"},2.25,1.75,2.75,null,null,null,13.5,10.5,16.5,40.5,16.5,13.5,30,{"$f":"'STARTNA LISTA 4 in 5'!$A$35","v":63},null,2.75,3,2.75,null,null,null,16.5,18,16.5,51,18,16.5,34.5,{"$f":"'STARTNA LISTA 4 in 5'!$A$35","v":63},null,13.5,10.5,16.5,40.5,16.5,13.5,30,null,16.5,18,16.5,51,18,16.5,34.5,null,18,64.5]
[6,{"$f":"'STARTNA LISTA 4 in 5'!$B$34","v":"ZOJA ŠORN VESEL"},{"$f":"'STARTNA LISTA 4 in 5'!$C$34","v":2007},{"$f":"'STARTNA LISTA 4 in 5'!$D$34","v":"TRŽIČ"},1.75,2.5,2,null,null,null,10.5,15,12,37.5,15,12,27,{"$f":"'STARTNA LISTA 4 in 5'!$A$34","v":62},null,2.5,3,3,null,null,null,15,18,18,51,18,18,36,{"$f":"'STARTNA LISTA 4 in 5'!$A$34","v":62},null,10.5,15,12,37.5,15,12,27,null,15,18,18,51,18,18,36,null,18,63]
[7,{"$f":"'STARTNA LISTA 4 in 5'!$B$33","v":"SARA OBRADOVIČ"},{"$f":"'STARTNA LISTA 4 in 5'!$C$33","v":2007},{"$f":"'STARTNA LISTA 4 in 5'!$D$33","v":"TRŽIČ"},1.25,1.5,1.75,null,null,null,7.5,9,10.5,27,10.5,9,19.5,{"$f":"'STARTNA LISTA 4 in 5'!$A$33","v":61},null,2.25,2.5,2.5,null,null,null,13.5,15,15,43.5,15,15,30,{"$f":"'STARTNA LISTA 4 in 5'!$A$33","v":61},null,7.5,9,10.5,27,10.5,9,19.5,null,13.5,15,15,43.5,15,15,30,null,15,49.5]
[8,{"$f":"'STARTNA LISTA 4 in 5'!$B$41","v":"EVA JERMAN"},{"$f":"'STARTNA LISTA 4 in 5'!$C$41","v":2007},{"$f":"'STARTNA LISTA 4 in 5'!$D$41","v":"BISTRICA"},null,null,null,null,null,null,"","","",0,"","",0,{"$f":"'STARTNA LISTA 4 in 5'!$A$41","v":69},null,3.75,3.75,4,null,null,null,22.5,22.5,24,69,24,22.5,46.5,{"$f":"'STARTNA LISTA 4 in 5'!$A$41","v":69},null,"","","",0,"","","",null,22.5,22.5,24,69,24,22.5,46.5,null,24,46.5]
[9,{"$f":"'STARTNA LISTA 4 in 5'!$B$42","v":"ANA TIŠLER"},{"$f":"'STARTNA LISTA 4 in 5'!$C$42","v":2007},{"$f":"'STARTNA LISTA 4 in 5'!$D$42","v":"POŠ LOM"},null,null,null,null,null,null,"","","",0,"","",0,{"$f":"'STARTNA LISTA 4 in 5'!$A$42","v":70},null,4,3.75,3.75,null,null,null,24,22.5,22.5,69,24,22.5,46.5,{"$f":"'STARTNA LISTA 4 in 5'!$A$42","v":70},null,"","","",0,"","","",null,24,22.5,22.5,69,24,22.5,46.5,null,24,46.5]
[10,{"$f":"'STARTNA LISTA 4 in 5'!$B$32","v":"AJDA JUGOVIC"},{"$f":"'STARTNA LISTA 4 in 5'!$C$32","v":2007},{"$f":"'STARTNA LISTA 4 in 5'!$D$32","v":"TRŽIČ"},1.75,2,1.75,null,null,null,10.5,12,10.5,33,12,10.5,22.5,{"$f":"'STARTNA LISTA 4 in 5'!$A$32","v":60},null,null,null,null,null,null,null,"","","",0,"","",0,{"$f":"'STARTNA LISTA 4 in 5'!$A$32","v":60},null,10.5,12,10.5,33,12,10.5,22.5,null,"","","",0,"","","",null,12,22.5]
[11,{"$f":"'STARTNA LISTA 4 in 5'!$B$39","v":" "},{"$f":"'STARTNA LISTA 4 in 5'!$C$39","v":" "},{"$f":"'STARTNA LISTA 4 in 5'!$D$39","v":" "},null,null,null,null,null,null,"","","",0,"","",0,{"$f":"'STARTNA LISTA 4 in 5'!$A$39","v":" "},null,null,null,null,null,null,null,"","","",0,"","",0,{"$f":"'STARTNA LISTA 4 in 5'!$A$39","v":" "},null,"","","",0,"","","",null,"","","",0,"","","",null,"",0]
[12,{"$f":"'STARTNA LISTA 4 in 5'!$B$43","v":" "},{"$f":"'STARTNA LISTA 4 in 5'!$C$43","v":" "},{"$f":"'STARTNA LISTA 4 in 5'!$D$43","v":" "},null,null,null,null,null,null,"","","",0,"","",0,{"$f":"'STARTNA LISTA 4 in 5'!$A$43","v":" "},null,null,null,null,null,null,null,"","","",0,"","",0,{"$f":"'STARTNA LISTA 4 in 5'!$A$43","v":" "},null,"","","",0,"","","",null,"","","",0,"","","",null,"",0]
[13,{"$f":"'STARTNA LISTA 4 in 5'!$B$44","v":" "},{"$f":"'STARTNA LISTA 4 in 5'!$C$44","v":" "},{"$f":"'STARTNA LISTA 4 in 5'!$D$44","v":" "},null,null,null,null,null,null,"","","",0,"","",0,{"$f":"'STARTNA LISTA 4 in 5'!$A$44","v":" "},null,null,null,null,null,null,null,"","","",0,"","",0,{"$f":"'STARTNA LISTA 4 in 5'!$A$44","v":" "},null,"","","",0,"","","",null,"","","",0,"","","",null,"",0]
[14,{"$f":"'STARTNA LISTA 4 in 5'!$B$45","v":" "},{"$f":"'STARTNA LISTA 4 in 5'!$C$45","v":" "},{"$f":"'STARTNA LISTA 4 in 5'!$D$45","v":" "},null,null,null,null,null,null,"","","",0,"","",0,{"$f":"'STARTNA LISTA 4 in 5'!$A$45","v":" "},null,null,null,null,null,null,null,"","","",0,"","",0,{"$f":"'STARTNA LISTA 4 in 5'!$A$45","v":" "},null,"","","",0,"","","",null,"","","",0,"","","",null,"",0]
[15,{"$f":"'STARTNA LISTA 4 in 5'!$B$46","v":" "},{"$f":"'STARTNA LISTA 4 in 5'!$C$46","v":" "},{"$f":"'STARTNA LISTA 4 in 5'!$D$46","v":" "},null,null,null,null,null,null,"","","",0,"","",0,{"$f":"'STARTNA LISTA 4 in 5'!$A$46","v":" "},null,null,null,null,null,null,null,"","","",0,"","",0,{"$f":"'STARTNA LISTA 4 in 5'!$A$46","v":" "},null,"","","",0,"","","",null,"","","",0,"","","",null,"",0]
[16,{"$f":"'STARTNA LISTA 4 in 5'!$B$47","v":" "},{"$f":"'STARTNA LISTA 4 in 5'!$C$47","v":" "},{"$f":"'STARTNA LISTA 4 in 5'!$D$47","v":" "},null,null,null,null,null,null,"","","",0,"","",0,{"$f":"'STARTNA LISTA 4 in 5'!$A$47","v":" "},null,null,null,null,null,null,null,"","","",0,"","",0,{"$f":"'STARTNA LISTA 4 in 5'!$A$47","v":" "},null,"","","",0,"","","",null,"","","",0,"","","",null,"",0]
[17,{"$f":"'STARTNA LISTA 4 in 5'!$B$48","v":" "},{"$f":"'STARTNA LISTA 4 in 5'!$C$48","v":" "},{"$f":"'STARTNA LISTA 4 in 5'!$D$48","v":" "},null,null,null,null,null,null,"","","",0,"","",0,{"$f":"'STARTNA LISTA 4 in 5'!$A$48","v":" "},null,null,null,null,null,null,null,"","","",0,"","",0,{"$f":"'STARTNA LISTA 4 in 5'!$A$48","v":" "},null,"","","",0,"","","",null,"","","",0,"","","",null,"",0]
[18,{"$f":"'STARTNA LISTA 4 in 5'!$B$49","v":" "},{"$f":"'STARTNA LISTA 4 in 5'!$C$49","v":" "},{"$f":"'STARTNA LISTA 4 in 5'!$D$49","v":" "},null,null,null,null,null,null,"","","",0,"","",0,{"$f":"'STARTNA LISTA 4 in 5'!$A$49","v":" "},null,null,null,null,null,null,null,"","","",0,"","",0,{"$f":"'STARTNA LISTA 4 in 5'!$A$49","v":" "},null,"","","",0,"","","",null,"","","",0,"","","",null,"",0]
[19,{"$f":"'STARTNA LISTA 4 in 5'!$B$50","v":" "},{"$f":"'STARTNA LISTA 4 in 5'!$C$50","v":" "},{"$f":"'STARTNA LISTA 4 in 5'!$D$50","v":" "},null,null,null,null,null,null,"","","",0,"","",0,{"$f":"'STARTNA LISTA 4 in 5'!$A$50","v":" "},null,null,null,null,null,null,null,"","","",0,"","",0,{"$f":"'STARTNA LISTA 4 in 5'!$A$50","v":" "},null,"","","",0,"","","",null,"","","",0,"","","",null,"",0]
[20,{"$f":"'STARTNA LISTA 4 in 5'!$B$51","v":" "},{"$f":"'STARTNA LISTA 4 in 5'!$C$51","v":" "},{"$f":"'STARTNA LISTA 4 in 5'!$D$51","v":" "},null,null,null,null,null,null,"","","",0,"","",0,{"$f":"'STARTNA LISTA 4 in 5'!$A$51","v":" "},null,null,null,null,null,null,null,"","","",0,"","",0,{"$f":"'STARTNA LISTA 4 in 5'!$A$51","v":" "},null,"","","",0,"","","",null,"","","",0,"","","",null,"",0]